BEGIN:VCALENDAR
VERSION:2.0
PRODID:-//Action For Animals Humane Society - ECPv6.15.13//NONSGML v1.0//EN
CALSCALE:GREGORIAN
METHOD:PUBLISH
X-WR-CALNAME:Action For Animals Humane Society
X-ORIGINAL-URL:https://www.afashelter.org
X-WR-CALDESC:Events for Action For Animals Humane Society
REFRESH-INTERVAL;VALUE=DURATION:PT1H
X-Robots-Tag:noindex
X-PUBLISHED-TTL:PT1H
BEGIN:VTIMEZONE
TZID:America/New_York
BEGIN:DAYLIGHT
TZOFFSETFROM:-0500
TZOFFSETTO:-0400
TZNAME:EDT
DTSTART:20220313T070000
END:DAYLIGHT
BEGIN:STANDARD
TZOFFSETFROM:-0400
TZOFFSETTO:-0500
TZNAME:EST
DTSTART:20221106T060000
END:STANDARD
BEGIN:DAYLIGHT
TZOFFSETFROM:-0500
TZOFFSETTO:-0400
TZNAME:EDT
DTSTART:20230312T070000
END:DAYLIGHT
BEGIN:STANDARD
TZOFFSETFROM:-0400
TZOFFSETTO:-0500
TZNAME:EST
DTSTART:20231105T060000
END:STANDARD
BEGIN:DAYLIGHT
TZOFFSETFROM:-0500
TZOFFSETTO:-0400
TZNAME:EDT
DTSTART:20240310T070000
END:DAYLIGHT
BEGIN:STANDARD
TZOFFSETFROM:-0400
TZOFFSETTO:-0500
TZNAME:EST
DTSTART:20241103T060000
END:STANDARD
END:VTIMEZONE
BEGIN:VEVENT
DTSTART;TZID=America/New_York:20231014T100000
DTEND;TZID=America/New_York:20231014T130000
DTSTAMP:20260416T183530
CREATED:20230904T094933Z
LAST-MODIFIED:20230904T094933Z
UID:8859-1697277600-1697288400@www.afashelter.org
SUMMARY:DRIVE-THRU Shot Clinic
DESCRIPTION:DRIVE-THRU Shot Clinic @ Derry Ag Fairgrounds\, Route 982\, New Derry\, PA 15671 \nRabies: $12 per shot | Bordetella\, DHPP\, FVRCP: $15 per shot\n \n1 year rabies shot unless proof of previous 3 year provided (paper certificates only).  \nAll shots are for dogs and cats 3 months of age or older and in good health.\nPlease have dogs leashed and cats in a carrier.\nCash or check payments ONLY.\n \nNo appointment needed…DRIVE-THRU!
URL:https://www.afashelter.org/event/drive-thru-shot-clinic-2/
LOCATION:Derry Township Agricultural Fairgrounds\, PA-982\, New Derry\, 15671
ATTACH;FMTTYPE=image/jpeg:https://www.afashelter.org/wp-content/uploads/2017/12/drive-thru-new-10.21-web-event.jpg
END:VEVENT
BEGIN:VEVENT
DTSTART;TZID=America/New_York:20230929T090000
DTEND;TZID=America/New_York:20230929T090000
DTSTAMP:20260416T183530
CREATED:20230413T124049Z
LAST-MODIFIED:20230413T124049Z
UID:8744-1695978000-1695978000@www.afashelter.org
SUMMARY:AFA 14th Annual Golf Outing
DESCRIPTION:$175 ENTRY FEE\, PER GOLFER\, INCLUDES: \n\n50/50 raffle tickets\nBasket raffle tickets\nPutting contest ticket (3 winners\, 1st place: TV)\nEnd of event prizes ticket\nCinnamon rolls from Laughlintown Pie Shoppe\nCoffee from Starbucks\nIce cream from Latrobe Dairy Queen\nTea\, lemonade and water\nComplimentary 18 holes green fee\nDinner\n4 person scramble with cart\nRange balls\nRegistration: 9am / Shotgun start: 10am\n\n***Bring a bag of Purina dog or cat food to the Golf Outing for a special prize drawing*** \nOr join us for dinner at Ligonier Country Club. Cost is $35. \nSPONSOR/ADVERTISER OPPORTUNITIES: \n\nLead Sponsor | $2\,500 – 2 foursomes\, 2 display signs\, 4 dozen golf balls.\nGold Sponsor | $1\,500 – 1 foursome\, 1 display sign\, 2 dozen golf balls.\nDinner Sponsor | $1\,000 – Sign with name/logo in dining room.\nBreakfast Sponsor | $500 – Sign with name/logo in dining room.\nRiding Cart Sponsor | $500 – Sign with name/logo on each cart.\nBeverage Cart Sponsor | $500 – Sign with name/logo on beverage cart.\nPutting Contest Sponsor | $500 – Sign with name/logo at putting green.\nBasket Raffle Sponsor | $500 – Sign with name/logo at raffle table.\n\nThe above sponsorships also include name/logo on event signage and AFA’s Facebook and website\, a full page ad in the program and introduction from the podium. \n\nHole Sponsor | $125: Sign on golf course and name listed in program.\nFull Page Program Advertiser | $100 (5½”w x 8½”h)\nHalf Page Program Advertiser | $60 (5½”w x 4¼”h)\n\nREGISTER TODAY to be a Golfer or Sponsor! 
URL:https://www.afashelter.org/event/afa-14th-annual-golf-outing/
LOCATION:Ligonier Country Club\, Country Club Road\, Ligonier\, 15658\, United States
ATTACH;FMTTYPE=image/jpeg:https://www.afashelter.org/wp-content/uploads/2023/04/Golf-Outing-Logo.jpg
ORGANIZER;CN="Action For Animals Humane Society":MAILTO:info@afashelter.org
END:VEVENT
BEGIN:VEVENT
DTSTART;TZID=America/New_York:20230923T113000
DTEND;TZID=America/New_York:20230923T113000
DTSTAMP:20260416T183530
CREATED:20230413T122956Z
LAST-MODIFIED:20230413T122956Z
UID:8739-1695468600-1695468600@www.afashelter.org
SUMMARY:Walk for the Animals
DESCRIPTION:Step 1-Sign up TODAY! \nPre-register for $20 or $25 day of Walk. Sign up as an individual or start or join a team. Fee includes a Walk t-shirt. Must register by August 22 to have a t-shirt for day of the event.  Registrations after August 22 will receive a Walk t-shirt after the event.  Walk sign-ups can be done in the shelter lobby or by phone by calling 724-539-2544. \n  \nStep 2- RAISE MONEY for the animals! \nCollect donations for the animals by cash/check to bring to the walk.  You’ll have chances to WIN great prizes for all the pledges you raise. \n  \nStep 3-WALK!! \nAt Twin Lakes: Registration- 11:30am; Walk starts at Noon (rain or shine). Event features walk in the park\, vendors\, games\, contests\, basket raffle\, prizes and more! Or participate virtually by walking around your yard\, neighborhood or favorite park or trail.
URL:https://www.afashelter.org/event/walk-for-the-animals/
LOCATION:Twin Lakes Park Pavilion #20\, 219 Twin Lakes Rd\, Latrobe\, PA\, 15650\, United States
CATEGORIES:Charity
ATTACH;FMTTYPE=image/jpeg:https://www.afashelter.org/wp-content/uploads/2023/04/Walk-for-the-Animals-Logo1325.jpg
ORGANIZER;CN="Action For Animals Humane Society":MAILTO:info@afashelter.org
END:VEVENT
BEGIN:VEVENT
DTSTART;TZID=America/New_York:20230916T100000
DTEND;TZID=America/New_York:20230916T130000
DTSTAMP:20260416T183530
CREATED:20220404T011853Z
LAST-MODIFIED:20220404T011853Z
UID:5079-1694858400-1694869200@www.afashelter.org
SUMMARY:WALK-IN Shot Clinic @ AFA Shelter
DESCRIPTION:WALK-IN Shot Clinic @ AFA Shelter\, 386 Rt 217\, Latrobe\, PA 15650 \nRabies: $12 per shot | Bordetella\, DHPP\, FVRCP: $15 per shot\n \n1 year rabies shot unless proof of previous 3 year provided (paper certificates only).  \nAll shots are for dogs and cats 3 months of age or older and in good health.\nPlease have dogs leashed and cats in a carrier.\nCash or check payments ONLY.\n \nNo appointment needed…WALK IN! \n 
URL:https://www.afashelter.org/event/drive-thru-shot-clinic/
LOCATION:Action For Animals Shelter\, 386 PA-217\, Latrobe\, PA\, 15650\, United States
ATTACH;FMTTYPE=image/jpeg:https://www.afashelter.org/wp-content/uploads/2022/04/9.16.23RVclinic-e1694528654453.jpg
ORGANIZER;CN="Action For Animals Humane Society":MAILTO:info@afashelter.org
END:VEVENT
BEGIN:VEVENT
DTSTART;TZID=America/New_York:20230708T100000
DTEND;TZID=America/New_York:20230708T130000
DTSTAMP:20260416T183530
CREATED:20230518T111158Z
LAST-MODIFIED:20230518T111158Z
UID:8780-1688810400-1688821200@www.afashelter.org
SUMMARY:WALK-IN Shot Clinic @ AFA Shelter
DESCRIPTION:WALK-IN Shot Clinic @ AFA Shelter\, 386 State Route 217\, Latrobe\, PA 15650 \nRabies: $12 per shot | Bordetella\, DHPP\, FVRCP: $15 per shot\n \n1 year rabies shot unless proof of previous 3 year provided (paper certificates only).  \nAll shots are for dogs and cats 3 months of age or older and in good health.\nPlease have dogs leashed and cats in a carrier.\nCash or check payments ONLY.\n \nNo appointment needed…WALK-IN to our shelter! \nNOTE: Line forms outside\, please dress accordingly as we never know what the weather maybe!
URL:https://www.afashelter.org/event/walk-in-shot-clinic-afa-shelter/
LOCATION:Action For Animals Shelter\, 386 PA-217\, Latrobe\, PA\, 15650\, United States
ATTACH;FMTTYPE=image/jpeg:https://www.afashelter.org/wp-content/uploads/2023/05/walk-in-clinic-july-23-e1687318776453.jpg
END:VEVENT
BEGIN:VEVENT
DTSTART;TZID=America/New_York:20230521T163000
DTEND;TZID=America/New_York:20230521T163000
DTSTAMP:20260416T183530
CREATED:20230428T010128Z
LAST-MODIFIED:20230428T010128Z
UID:8757-1684686600-1684686600@www.afashelter.org
SUMMARY:BINGO NIGHT
DESCRIPTION:Join us for B-I-N-G-O Night for the animals!! \nRegistration 4:30 pm \nBingo 6:00 pm \n$25 Entry \n50/50***Raffles***Rippies***Tip Boards***Basket Auction \nThis family friendly\, smoke-free event will have food/drinks available for purchase! \nHave a girl’s evening out\, bring the whole family\, or just come because you love animals! We CANNOT wait to see you for our FIRST ever AFA BINGO!!
URL:https://www.afashelter.org/event/bingo-night/
LOCATION:Lloydsville VFD Social Hall\, 208 Dickens Street\, Latrobe\, PA\, 15650\, United States
ATTACH;FMTTYPE=image/jpeg:https://www.afashelter.org/wp-content/uploads/2023/04/bingo5.21.23.jpg
END:VEVENT
END:VCALENDAR