BEGIN:VCALENDAR
VERSION:2.0
PRODID:-//Action For Animals Humane Society - ECPv6.15.13//NONSGML v1.0//EN
CALSCALE:GREGORIAN
METHOD:PUBLISH
X-ORIGINAL-URL:https://www.afashelter.org
X-WR-CALDESC:Events for Action For Animals Humane Society
REFRESH-INTERVAL;VALUE=DURATION:PT1H
X-Robots-Tag:noindex
X-PUBLISHED-TTL:PT1H
BEGIN:VTIMEZONE
TZID:America/New_York
BEGIN:DAYLIGHT
TZOFFSETFROM:-0500
TZOFFSETTO:-0400
TZNAME:EDT
DTSTART:20220313T070000
END:DAYLIGHT
BEGIN:STANDARD
TZOFFSETFROM:-0400
TZOFFSETTO:-0500
TZNAME:EST
DTSTART:20221106T060000
END:STANDARD
BEGIN:DAYLIGHT
TZOFFSETFROM:-0500
TZOFFSETTO:-0400
TZNAME:EDT
DTSTART:20230312T070000
END:DAYLIGHT
BEGIN:STANDARD
TZOFFSETFROM:-0400
TZOFFSETTO:-0500
TZNAME:EST
DTSTART:20231105T060000
END:STANDARD
BEGIN:DAYLIGHT
TZOFFSETFROM:-0500
TZOFFSETTO:-0400
TZNAME:EDT
DTSTART:20240310T070000
END:DAYLIGHT
BEGIN:STANDARD
TZOFFSETFROM:-0400
TZOFFSETTO:-0500
TZNAME:EST
DTSTART:20241103T060000
END:STANDARD
BEGIN:DAYLIGHT
TZOFFSETFROM:-0500
TZOFFSETTO:-0400
TZNAME:EDT
DTSTART:20250309T070000
END:DAYLIGHT
BEGIN:STANDARD
TZOFFSETFROM:-0400
TZOFFSETTO:-0500
TZNAME:EST
DTSTART:20251102T060000
END:STANDARD
BEGIN:DAYLIGHT
TZOFFSETFROM:-0500
TZOFFSETTO:-0400
TZNAME:EDT
DTSTART:20260308T070000
END:DAYLIGHT
BEGIN:STANDARD
TZOFFSETFROM:-0400
TZOFFSETTO:-0500
TZNAME:EST
DTSTART:20261101T060000
END:STANDARD
END:VTIMEZONE
BEGIN:VEVENT
DTSTART;TZID=America/New_York:20240921T100000
DTEND;TZID=America/New_York:20240921T130000
DTSTAMP:20260416T182132
CREATED:20240913T145458Z
LAST-MODIFIED:20240913T145458Z
UID:9282-1726912800-1726923600@www.afashelter.org
SUMMARY:September Walk-In Rabies Clinic
DESCRIPTION:Our September 21st Walk-In Rabies Clinic is being held at Action For Animals. It will be 10-1 at 386 RT. 217\, Latrobe\, PA.\n\nRabies $15.00DHPP (Canine Distemper) $18.00FVRCP (Feline Distemper) $18.00Feline Leukemia $20.00\n\n\n***Cash or Check with ID
URL:https://www.afashelter.org/event/september-walk-in-rabies-clinic/
LOCATION:Action For Animals Shelter\, 386 PA-217\, Latrobe\, PA\, 15650\, United States
ATTACH;FMTTYPE=image/jpeg:https://www.afashelter.org/wp-content/uploads/2024/09/458206286_922621276576958_7093264933299622471_n.jpg
ORGANIZER;CN="Action For Animals Humane Society":MAILTO:info@afashelter.org
END:VEVENT
BEGIN:VEVENT
DTSTART;VALUE=DATE:20240913
DTEND;VALUE=DATE:20240914
DTSTAMP:20260416T182132
CREATED:20240716T115052Z
LAST-MODIFIED:20240716T115052Z
UID:9175-1726185600-1726271999@www.afashelter.org
SUMMARY:15th Annual Golf Outing
DESCRIPTION:Join us for our 15th Annual Golf Outing at Glengarry Golf Links\, on Friday\, September 13th. This is an all day event!  Registration begins at 11:00 and Shotgun start at 12:00. \nGolfer– $125.00   Includes: 50/50 raffle\, basket raffle\, putting contest\, mulligan\, end of event prize ticket\, lunch\, coffee from Starbucks\, ice cream from Latrobe DQ\, tea\, lemonade\, water\, dinner\, 4 person scramble with cart\, and range balls \nFoursome– $500.00 \nSponsorships Available! \n\nLead Sponsor $2\,000 includes: 2 foursomes\, 2 display signs\, 2 dozen golf balls\nGold Sponsor $1\,500 includes: 1 foursome\, 1 display sign\, 1 dozen golf balls\nDinner Sponsor $1\,000 includes: sign with name/logo in dining room\nBreakfast Sponsor $1\,000 includes: sign with name/logo in dining room\nRiding Cart Sponsor $500.00 includes: sign with name/logo on each cart\nBeverage Cart Sponsor $500.00 includes: sign with name/logo on cart\nPutting Contest Sponsor $500.00 includes: sign with name/logo at putting green\nBasket Raffle Sponsor $250.00 includes: sign with name/logo on raffle table\nSilent Auction Sponsor $250.00 includes: sign with name/logo\n\nThe above sponsorships also include name/logo on event signage and AFA’s Facebook and website\, a full page ad in the program and introduction from the podium. \n  \nHole Sponsor $125.oo includes: sign on golf course and name listed in program \n  \nStop by Action For Animals today to pick up your registration! \nWe are located at 386 Route 217\, Latrobe\, PA 15650 \n  \n  \n  \n  \n 
URL:https://www.afashelter.org/event/15th-annual-golf-outing/
LOCATION:Glengarry Golf Links\, 168 Lentz Road\, Latrobe\, 15650\, United States
ATTACH;FMTTYPE=image/png:https://www.afashelter.org/wp-content/uploads/2024/07/image0-2.png
ORGANIZER;CN="Action For Animals Humane Society":MAILTO:info@afashelter.org
END:VEVENT
BEGIN:VEVENT
DTSTART;TZID=America/New_York:20240727T100000
DTEND;TZID=America/New_York:20240727T130000
DTSTAMP:20260416T182132
CREATED:20240626T211312Z
LAST-MODIFIED:20240626T211312Z
UID:9149-1722074400-1722085200@www.afashelter.org
SUMMARY:Drive-Thru Rabies Clinic
DESCRIPTION:AFA is holding our monthly Drive-Thru Rabies Clinic on July 27th\, 10:00-1:00PM.  The location will be at the Derry Ag Fairgrounds\, 5938 Rt. 982\, New Derry. \n*** Cash or Check with ID \nRabies $15.00 \nDHPP $18.00 \nFVRCP $18.00 \nLeukemia (cat) $20.00
URL:https://www.afashelter.org/event/drive-thru-rabies-clinic/
LOCATION:Derry Ag Fairgrounds\, 5938 Rt. 982\, New Derry\, PA\, United States
ATTACH;FMTTYPE=image/jpeg:https://www.afashelter.org/wp-content/uploads/2024/06/Rabies-Clinic.jpg
ORGANIZER;CN="Action For Animals Humane Society":MAILTO:info@afashelter.org
END:VEVENT
BEGIN:VEVENT
DTSTART;TZID=America/New_York:20240726T063000
DTEND;TZID=America/New_York:20240726T210000
DTSTAMP:20260416T182132
CREATED:20240626T210613Z
LAST-MODIFIED:20240626T210613Z
UID:9144-1721975400-1722027600@www.afashelter.org
SUMMARY:Action For Animals Spirit Day at Chick-Fil-A
DESCRIPTION:Join Action For Animals on July 26th\, 6:30AM-9:00PM for Spirit Day!  Stop by Chick-Fil-A\, at Eastgate Plaza\, 5156 State Route 30\, Greensburg and AFA will earn a percentage of sales for that day!  Please be sure to mention that you’re there to support AFA before you order!
URL:https://www.afashelter.org/event/action-for-animals-spirit-day-at-chick-fil-a/
LOCATION:Chick-Fil-A\, 5156 State route 30\, Greensburg\, PA\, United States
ATTACH;FMTTYPE=image/jpeg:https://www.afashelter.org/wp-content/uploads/2024/06/spirit-day.jpg
ORGANIZER;CN="Action For Animals Humane Society":MAILTO:info@afashelter.org
END:VEVENT
BEGIN:VEVENT
DTSTART;TZID=America/New_York:20240712T160000
DTEND;TZID=America/New_York:20240712T180000
DTSTAMP:20260416T182132
CREATED:20240626T205449Z
LAST-MODIFIED:20240626T205449Z
UID:9137-1720800000-1720807200@www.afashelter.org
SUMMARY:Action For Animals Bartender Takeover
DESCRIPTION:Action For Animals is holding our Bartender Takeover on July 12th from 4-6PM!  Stop by The Pier at Sharky’s\, 3960 Lincoln HWY in Latrobe.  Be sure to grab a specialty drink and take a chance on the 50/50 raffle!   Guest bartenders are\, Briana Tomack (President of the Greater Latrobe Laurel Valley Chamber)\, Marcia Dolan (Realtor/Associate Broker with Berkshire Hathaway Home Services)\, Linda Chenet (Commercial Loan Ambassador with Somerset Trust Company) and Chris Beddick (State Farm Insurance Agent).  We will have two special drinks\, The Husky and The Hello Kitty.  A portion of the specialty drinks proceeds will go to AFA. \n 
URL:https://www.afashelter.org/event/action-for-animals-bartender-takeover/
LOCATION:The Pier at Sharky’s\, 3960 Lincoln HWY\, Latrobe\, PA\, 15650\, United States
ATTACH;FMTTYPE=image/jpeg:https://www.afashelter.org/wp-content/uploads/2024/06/bartender-takeover.jpg
ORGANIZER;CN="Action For Animals Humane Society":MAILTO:info@afashelter.org
END:VEVENT
BEGIN:VEVENT
DTSTART;TZID=America/New_York:20240601T110000
DTEND;TZID=America/New_York:20240601T130000
DTSTAMP:20260416T182132
CREATED:20240417T221542Z
LAST-MODIFIED:20240417T221542Z
UID:9069-1717239600-1717246800@www.afashelter.org
SUMMARY:2024 Zumbathon
DESCRIPTION:Join Action for Animals at our 1st Zumbathon! \nAre you nervous about attending Zumba for the first time?  This is the perfect event for you!  Join us for a morning of dancing\, music\, and fun to support the animals of Action for Animals Humane Society!  We have 4 instructors participating\, so you will experience 4 unique choreography styles and teaching styles all with the goal of moving your body and having FUN with no judgement!  If you find yourself struggling with any moves\, you can modify it by shaking your booty\, walking it out\, or taking a break!  We will have a basket raffle\, a 50/50\, and an Action for Animals information table to browse while you catch your breath.  We hope to see you June 1 from 11-1 at the Latrobe Skating Center!\n\nPaKennel#4685
URL:https://www.afashelter.org/event/9069/
LOCATION:Latrobe Skating Center\, 2914 Ligonier St\, Latrobe\, PA\, 15650\, United States
ORGANIZER;CN="Action For Animals Humane Society":MAILTO:info@afashelter.org
END:VEVENT
BEGIN:VEVENT
DTSTART;TZID=America/New_York:20240518T113000
DTEND;TZID=America/New_York:20240518T113000
DTSTAMP:20260416T182132
CREATED:20240303T220259Z
LAST-MODIFIED:20240303T220259Z
UID:9015-1716031800-1716031800@www.afashelter.org
SUMMARY:2024 Walk for the Animals
DESCRIPTION:Registration – 11:30 am \nWalk starts at noon… rain or shine! \nEvent features walk\, caricature artist\, vendors\, games\, contests\, basket raffles and more! \nYou can also do a virtual walk and participate from anywhere! \nEvery dollar you raise from pledges will help the animals at our shelter
URL:https://www.afashelter.org/event/2024-walk-for-the-animals/
LOCATION:Twin Lakes Park Pavilion #20\, 219 Twin Lakes Rd\, Latrobe\, PA\, 15650\, United States
ATTACH;FMTTYPE=image/jpeg:https://www.afashelter.org/wp-content/uploads/2024/03/Walk-for-the-Animals-Logo1325.jpg
ORGANIZER;CN="Action For Animals Humane Society":MAILTO:info@afashelter.org
END:VEVENT
BEGIN:VEVENT
DTSTART;TZID=America/New_York:20240413T180000
DTEND;TZID=America/New_York:20240413T220000
DTSTAMP:20260416T182132
CREATED:20240303T165231Z
LAST-MODIFIED:20240303T165231Z
UID:9010-1713031200-1713045600@www.afashelter.org
SUMMARY:Spring Cash and Gift Bash
DESCRIPTION:Saturday\, April 13th at Huber Hall\, Latrobe\, PA.  Buffet dinner will be provided by Fuggenthaler Catering!  There will be cash prizes\, basket raffles\, 50/50\, games of chance…and more! \n**Bring in can/bag of pet food for a chance to win a prize!** \n**10:00pm drawing- you must be present to win!**
URL:https://www.afashelter.org/event/springcashbash/
LOCATION:Huber Hall\, 300 S. Alexandria St.\, Latrobe\, PA\, 15650\, United States
ORGANIZER;CN="Action For Animals Humane Society":MAILTO:info@afashelter.org
END:VEVENT
BEGIN:VEVENT
DTSTART;TZID=America/New_York:20240217T180000
DTEND;TZID=America/New_York:20240217T210000
DTSTAMP:20260416T182132
CREATED:20240114T170810Z
LAST-MODIFIED:20240114T170810Z
UID:8962-1708192800-1708203600@www.afashelter.org
SUMMARY:Love is in the Air
DESCRIPTION:  \n \n \n 
URL:https://www.afashelter.org/event/love-is-in-the-air/
LOCATION:Rizzo’s Malabar Inn Reception Hall & Banquet Facility\, 127 Rizzo Road\, Crabtree\, PA\, 15624\, United States
ATTACH;FMTTYPE=image/png:https://www.afashelter.org/wp-content/uploads/2024/01/liita.png
ORGANIZER;CN="Action For Animals Humane Society":MAILTO:info@afashelter.org
END:VEVENT
BEGIN:VEVENT
DTSTART;TZID=America/New_York:20231207T180000
DTEND;TZID=America/New_York:20250102T230000
DTSTAMP:20260416T182132
CREATED:20180212T201827Z
LAST-MODIFIED:20180212T201827Z
UID:6654-1701972000-1735858800@www.afashelter.org
SUMMARY:Online Raffles
DESCRIPTION:[cmsms_row data_padding_bottom=”0″ data_padding_top=”0″ data_color=”default” data_padding_right=”3″ data_padding_left=”3″ data_width=”fullwidth”][cmsms_column data_width=”1/1″][cmsms_text animation_delay=”0″] \nOnline raffles held every Thursday at 3pm. Follow our Facebook Page for announcements when the raffles go live. Winners are determined by Sure Tip Boards with chances being sold on our raffle website. Raffles include lottery scratch-off tickets\, gift cards\, products and more! \n[/cmsms_text][/cmsms_column][/cmsms_row]
URL:https://www.afashelter.org/event/online-raffles/
LOCATION:PA
ATTACH;FMTTYPE=image/jpeg:https://www.afashelter.org/wp-content/uploads/2022/11/raffles-event-v3.jpg
END:VEVENT
BEGIN:VEVENT
DTSTART;TZID=America/New_York:20231014T100000
DTEND;TZID=America/New_York:20231014T130000
DTSTAMP:20260416T182132
CREATED:20230904T094933Z
LAST-MODIFIED:20230904T094933Z
UID:8859-1697277600-1697288400@www.afashelter.org
SUMMARY:DRIVE-THRU Shot Clinic
DESCRIPTION:DRIVE-THRU Shot Clinic @ Derry Ag Fairgrounds\, Route 982\, New Derry\, PA 15671 \nRabies: $12 per shot | Bordetella\, DHPP\, FVRCP: $15 per shot\n \n1 year rabies shot unless proof of previous 3 year provided (paper certificates only).  \nAll shots are for dogs and cats 3 months of age or older and in good health.\nPlease have dogs leashed and cats in a carrier.\nCash or check payments ONLY.\n \nNo appointment needed…DRIVE-THRU!
URL:https://www.afashelter.org/event/drive-thru-shot-clinic-2/
LOCATION:Derry Township Agricultural Fairgrounds\, PA-982\, New Derry\, 15671
ATTACH;FMTTYPE=image/jpeg:https://www.afashelter.org/wp-content/uploads/2017/12/drive-thru-new-10.21-web-event.jpg
END:VEVENT
BEGIN:VEVENT
DTSTART;TZID=America/New_York:20230929T090000
DTEND;TZID=America/New_York:20230929T090000
DTSTAMP:20260416T182132
CREATED:20230413T124049Z
LAST-MODIFIED:20230413T124049Z
UID:8744-1695978000-1695978000@www.afashelter.org
SUMMARY:AFA 14th Annual Golf Outing
DESCRIPTION:$175 ENTRY FEE\, PER GOLFER\, INCLUDES: \n\n50/50 raffle tickets\nBasket raffle tickets\nPutting contest ticket (3 winners\, 1st place: TV)\nEnd of event prizes ticket\nCinnamon rolls from Laughlintown Pie Shoppe\nCoffee from Starbucks\nIce cream from Latrobe Dairy Queen\nTea\, lemonade and water\nComplimentary 18 holes green fee\nDinner\n4 person scramble with cart\nRange balls\nRegistration: 9am / Shotgun start: 10am\n\n***Bring a bag of Purina dog or cat food to the Golf Outing for a special prize drawing*** \nOr join us for dinner at Ligonier Country Club. Cost is $35. \nSPONSOR/ADVERTISER OPPORTUNITIES: \n\nLead Sponsor | $2\,500 – 2 foursomes\, 2 display signs\, 4 dozen golf balls.\nGold Sponsor | $1\,500 – 1 foursome\, 1 display sign\, 2 dozen golf balls.\nDinner Sponsor | $1\,000 – Sign with name/logo in dining room.\nBreakfast Sponsor | $500 – Sign with name/logo in dining room.\nRiding Cart Sponsor | $500 – Sign with name/logo on each cart.\nBeverage Cart Sponsor | $500 – Sign with name/logo on beverage cart.\nPutting Contest Sponsor | $500 – Sign with name/logo at putting green.\nBasket Raffle Sponsor | $500 – Sign with name/logo at raffle table.\n\nThe above sponsorships also include name/logo on event signage and AFA’s Facebook and website\, a full page ad in the program and introduction from the podium. \n\nHole Sponsor | $125: Sign on golf course and name listed in program.\nFull Page Program Advertiser | $100 (5½”w x 8½”h)\nHalf Page Program Advertiser | $60 (5½”w x 4¼”h)\n\nREGISTER TODAY to be a Golfer or Sponsor! 
URL:https://www.afashelter.org/event/afa-14th-annual-golf-outing/
LOCATION:Ligonier Country Club\, Country Club Road\, Ligonier\, 15658\, United States
ATTACH;FMTTYPE=image/jpeg:https://www.afashelter.org/wp-content/uploads/2023/04/Golf-Outing-Logo.jpg
ORGANIZER;CN="Action For Animals Humane Society":MAILTO:info@afashelter.org
END:VEVENT
BEGIN:VEVENT
DTSTART;TZID=America/New_York:20230923T113000
DTEND;TZID=America/New_York:20230923T113000
DTSTAMP:20260416T182132
CREATED:20230413T122956Z
LAST-MODIFIED:20230413T122956Z
UID:8739-1695468600-1695468600@www.afashelter.org
SUMMARY:Walk for the Animals
DESCRIPTION:Step 1-Sign up TODAY! \nPre-register for $20 or $25 day of Walk. Sign up as an individual or start or join a team. Fee includes a Walk t-shirt. Must register by August 22 to have a t-shirt for day of the event.  Registrations after August 22 will receive a Walk t-shirt after the event.  Walk sign-ups can be done in the shelter lobby or by phone by calling 724-539-2544. \n  \nStep 2- RAISE MONEY for the animals! \nCollect donations for the animals by cash/check to bring to the walk.  You’ll have chances to WIN great prizes for all the pledges you raise. \n  \nStep 3-WALK!! \nAt Twin Lakes: Registration- 11:30am; Walk starts at Noon (rain or shine). Event features walk in the park\, vendors\, games\, contests\, basket raffle\, prizes and more! Or participate virtually by walking around your yard\, neighborhood or favorite park or trail.
URL:https://www.afashelter.org/event/walk-for-the-animals/
LOCATION:Twin Lakes Park Pavilion #20\, 219 Twin Lakes Rd\, Latrobe\, PA\, 15650\, United States
CATEGORIES:Charity
ATTACH;FMTTYPE=image/jpeg:https://www.afashelter.org/wp-content/uploads/2023/04/Walk-for-the-Animals-Logo1325.jpg
ORGANIZER;CN="Action For Animals Humane Society":MAILTO:info@afashelter.org
END:VEVENT
BEGIN:VEVENT
DTSTART;TZID=America/New_York:20230916T100000
DTEND;TZID=America/New_York:20230916T130000
DTSTAMP:20260416T182132
CREATED:20220404T011853Z
LAST-MODIFIED:20220404T011853Z
UID:5079-1694858400-1694869200@www.afashelter.org
SUMMARY:WALK-IN Shot Clinic @ AFA Shelter
DESCRIPTION:WALK-IN Shot Clinic @ AFA Shelter\, 386 Rt 217\, Latrobe\, PA 15650 \nRabies: $12 per shot | Bordetella\, DHPP\, FVRCP: $15 per shot\n \n1 year rabies shot unless proof of previous 3 year provided (paper certificates only).  \nAll shots are for dogs and cats 3 months of age or older and in good health.\nPlease have dogs leashed and cats in a carrier.\nCash or check payments ONLY.\n \nNo appointment needed…WALK IN! \n 
URL:https://www.afashelter.org/event/drive-thru-shot-clinic/
LOCATION:Action For Animals Shelter\, 386 PA-217\, Latrobe\, PA\, 15650\, United States
ATTACH;FMTTYPE=image/jpeg:https://www.afashelter.org/wp-content/uploads/2022/04/9.16.23RVclinic-e1694528654453.jpg
ORGANIZER;CN="Action For Animals Humane Society":MAILTO:info@afashelter.org
END:VEVENT
BEGIN:VEVENT
DTSTART;TZID=America/New_York:20230708T100000
DTEND;TZID=America/New_York:20230708T130000
DTSTAMP:20260416T182132
CREATED:20230518T111158Z
LAST-MODIFIED:20230518T111158Z
UID:8780-1688810400-1688821200@www.afashelter.org
SUMMARY:WALK-IN Shot Clinic @ AFA Shelter
DESCRIPTION:WALK-IN Shot Clinic @ AFA Shelter\, 386 State Route 217\, Latrobe\, PA 15650 \nRabies: $12 per shot | Bordetella\, DHPP\, FVRCP: $15 per shot\n \n1 year rabies shot unless proof of previous 3 year provided (paper certificates only).  \nAll shots are for dogs and cats 3 months of age or older and in good health.\nPlease have dogs leashed and cats in a carrier.\nCash or check payments ONLY.\n \nNo appointment needed…WALK-IN to our shelter! \nNOTE: Line forms outside\, please dress accordingly as we never know what the weather maybe!
URL:https://www.afashelter.org/event/walk-in-shot-clinic-afa-shelter/
LOCATION:Action For Animals Shelter\, 386 PA-217\, Latrobe\, PA\, 15650\, United States
ATTACH;FMTTYPE=image/jpeg:https://www.afashelter.org/wp-content/uploads/2023/05/walk-in-clinic-july-23-e1687318776453.jpg
END:VEVENT
BEGIN:VEVENT
DTSTART;TZID=America/New_York:20230521T163000
DTEND;TZID=America/New_York:20230521T163000
DTSTAMP:20260416T182132
CREATED:20230428T010128Z
LAST-MODIFIED:20230428T010128Z
UID:8757-1684686600-1684686600@www.afashelter.org
SUMMARY:BINGO NIGHT
DESCRIPTION:Join us for B-I-N-G-O Night for the animals!! \nRegistration 4:30 pm \nBingo 6:00 pm \n$25 Entry \n50/50***Raffles***Rippies***Tip Boards***Basket Auction \nThis family friendly\, smoke-free event will have food/drinks available for purchase! \nHave a girl’s evening out\, bring the whole family\, or just come because you love animals! We CANNOT wait to see you for our FIRST ever AFA BINGO!!
URL:https://www.afashelter.org/event/bingo-night/
LOCATION:Lloydsville VFD Social Hall\, 208 Dickens Street\, Latrobe\, PA\, 15650\, United States
ATTACH;FMTTYPE=image/jpeg:https://www.afashelter.org/wp-content/uploads/2023/04/bingo5.21.23.jpg
END:VEVENT
END:VCALENDAR