BEGIN:VCALENDAR
VERSION:2.0
PRODID:-//Action For Animals Humane Society - ECPv6.15.13//NONSGML v1.0//EN
CALSCALE:GREGORIAN
METHOD:PUBLISH
X-WR-CALNAME:Action For Animals Humane Society
X-ORIGINAL-URL:https://www.afashelter.org
X-WR-CALDESC:Events for Action For Animals Humane Society
REFRESH-INTERVAL;VALUE=DURATION:PT1H
X-Robots-Tag:noindex
X-PUBLISHED-TTL:PT1H
BEGIN:VTIMEZONE
TZID:UTC
BEGIN:STANDARD
TZOFFSETFROM:+0000
TZOFFSETTO:+0000
TZNAME:UTC
DTSTART:20250101T000000
END:STANDARD
END:VTIMEZONE
BEGIN:VEVENT
DTSTART;VALUE=DATE:20260630
DTEND;VALUE=DATE:20260701
DTSTAMP:20260425T143611
CREATED:20260316T233929Z
LAST-MODIFIED:20260316T233929Z
UID:42678-1782777600-1782863999@www.afashelter.org
SUMMARY:July Ticket Fundraiser
DESCRIPTION:Starting in June\, grab your July 2026 Calendar Ticket at the Shelter! For just a $5 donation\, you’ll have a chance to win cash every single day in July… and only 1\,000 tickets are available! Don’t miss out on your shot at daily prizes. \nStop by the shelter and get your ticket before they’re gone! \nWinning numbers are taken from the First 7:00 pm PA Pick 3 Lottery. All cash winnings will be determined by the amount of money indicated on each day of the calendar. All unsold tickets become property of AFAHS. Not responsible for typographical errors. Tickets void after 30 days.
URL:https://www.afashelter.org/event/july-ticket-fundraiser/
LOCATION:Action For Animals Shelter\, 386 PA-217\, Latrobe\, PA\, 15650\, United States
ATTACH;FMTTYPE=image/png:https://www.afashelter.org/wp-content/uploads/2025/12/42115_image_JULY-Ticket-sales-for-website.png
END:VEVENT
BEGIN:VEVENT
DTSTART;TZID=UTC:20260720T090000
DTEND;TZID=UTC:20260720T130000
DTSTAMP:20260425T143611
CREATED:20260303T161112Z
LAST-MODIFIED:20260303T161413Z
UID:42655-1784538000-1784552400@www.afashelter.org
SUMMARY:2026 Golf Outing
DESCRIPTION:Join us for our 16th Annual Golf Outing at the historic Latrobe Country Club for a day of golf that directly supports the animals at our shelter! \nWHERE: Latrobe Country Club\n346 Arnold Palmer Dr\, Latrobe\, PA 15650 \nWHEN: Monday\, July 20\, 2026\n9:00 am: Registration & Breakfast\n10:00 am: Shotgun Start \nWHAT’S INCLUDED:\nYour registration covers the full experience: \n\n18 holes of golf (4-person scramble) with a cart.\nBreakfast featuring Palmer Breakfast Sandwiches.\nAccess to the Coffee and Beverage station.\nA hot dog and drink at the turn to keep you fueled.\nA 3-course lunch immediately following the tournament.\nA ticket for the Putting Contest (2 winners will be named).\n\nHELP THE ANIMALS (AND WIN STUFF):\nWe are looking to stock the shelter pantry. Bring a bag of Purina dog or cat food to the outing\, and we will enter you into a special prize drawing. It’s an easy way to help our residents while you’re checking in. \nClick the button down below to register!
URL:https://www.afashelter.org/event/2026-golf-outing/
LOCATION:PA
ATTACH;FMTTYPE=image/png:https://www.afashelter.org/wp-content/uploads/2026/03/MONDAY-JULY-20-2026-900-am-Breakfast-1000-am-Shotgun-Start-Latrobe-Country-Club-346-Arnold-Palmer-Dr-Latrobe-PA-15650.png
END:VEVENT
BEGIN:VEVENT
DTSTART;VALUE=DATE:20260924
DTEND;VALUE=DATE:20260925
DTSTAMP:20260425T143611
CREATED:20260316T234628Z
LAST-MODIFIED:20260316T234810Z
UID:42683-1790208000-1790294399@www.afashelter.org
SUMMARY:Birds of Prey Presentation
DESCRIPTION:Presentation will be taking place at the new Action for Animals Administration and Activity Building located next to the shelter. \nMore details coming soon\, stay tuned!
URL:https://www.afashelter.org/event/birds-of-prey-presentation/
LOCATION:Action For Animals Shelter\, 386 PA-217\, Latrobe\, PA\, 15650\, United States
END:VEVENT
BEGIN:VEVENT
DTSTART;TZID=UTC:20261128T110000
DTEND;TZID=UTC:20261128T140000
DTSTAMP:20260425T143611
CREATED:20260316T234436Z
LAST-MODIFIED:20260316T234436Z
UID:42681-1795863600-1795874400@www.afashelter.org
SUMMARY:Pictures with Santa (Pets and Kids)
DESCRIPTION:Join AFA for another year of pictures with santa on November 28th\, 2026 from 11:00 am to 2:00 pm. Kids and pets are welcome to come visit with santa for a donation. \nPlease stay tuned for more details
URL:https://www.afashelter.org/event/pictures-with-santa-pets-and-kids/
LOCATION:PA
CATEGORIES:Charity
END:VEVENT
END:VCALENDAR